BEGIN:VCALENDAR
VERSION:2.0
PRODID:-//Pines City Colleges - ECPv6.15.14//NONSGML v1.0//EN
CALSCALE:GREGORIAN
METHOD:PUBLISH
X-WR-CALNAME:Pines City Colleges
X-ORIGINAL-URL:https://pcc.edu.ph
X-WR-CALDESC:Events for Pines City Colleges
REFRESH-INTERVAL;VALUE=DURATION:PT1H
X-Robots-Tag:noindex
X-PUBLISHED-TTL:PT1H
BEGIN:VTIMEZONE
TZID:UTC
BEGIN:STANDARD
TZOFFSETFROM:+0000
TZOFFSETTO:+0000
TZNAME:UTC
DTSTART:20220101T000000
END:STANDARD
END:VTIMEZONE
BEGIN:VEVENT
DTSTART;TZID=UTC:20230515T073000
DTEND;TZID=UTC:20230520T180000
DTSTAMP:20260421T174651
CREATED:20230227T005134Z
LAST-MODIFIED:20230227T005134Z
UID:12503-1684135800-1684605600@pcc.edu.ph
SUMMARY:Final Examination
DESCRIPTION:
URL:https://pcc.edu.ph/event/final-examination-2/
END:VEVENT
BEGIN:VEVENT
DTSTART;TZID=UTC:20230515T073000
DTEND;TZID=UTC:20230520T180000
DTSTAMP:20260421T174651
CREATED:20230227T005134Z
LAST-MODIFIED:20230227T005134Z
UID:5771-1684135800-1684605600@pcc.edu.ph
SUMMARY:Final Examination
DESCRIPTION:
URL:https://pcc.edu.ph/event/final-examination/
END:VEVENT
END:VCALENDAR