BEGIN:VCALENDAR
VERSION:2.0
PRODID:-//Pines City Colleges - ECPv6.15.14//NONSGML v1.0//EN
CALSCALE:GREGORIAN
METHOD:PUBLISH
X-WR-CALNAME:Pines City Colleges
X-ORIGINAL-URL:https://pcc.edu.ph
X-WR-CALDESC:Events for Pines City Colleges
REFRESH-INTERVAL;VALUE=DURATION:PT1H
X-Robots-Tag:noindex
X-PUBLISHED-TTL:PT1H
BEGIN:VTIMEZONE
TZID:UTC
BEGIN:STANDARD
TZOFFSETFROM:+0000
TZOFFSETTO:+0000
TZNAME:UTC
DTSTART:20210101T000000
END:STANDARD
END:VTIMEZONE
BEGIN:VEVENT
DTSTART;TZID=UTC:20221219T080000
DTEND;TZID=UTC:20221223T170000
DTSTAMP:20260422T011329
CREATED:20220723T003239Z
LAST-MODIFIED:20220723T004111Z
UID:4554-1671436800-1671814800@pcc.edu.ph
SUMMARY:Special Final Exam
DESCRIPTION:
URL:https://pcc.edu.ph/event/special-final-exam/
END:VEVENT
BEGIN:VEVENT
DTSTART;TZID=UTC:20221219T080000
DTEND;TZID=UTC:20221223T170000
DTSTAMP:20260422T011329
CREATED:20220723T003239Z
LAST-MODIFIED:20220723T003239Z
UID:12500-1671436800-1671814800@pcc.edu.ph
SUMMARY:Special Final Exam
DESCRIPTION:
URL:https://pcc.edu.ph/event/special-final-exam-2/
END:VEVENT
END:VCALENDAR